BEGIN:VCALENDAR
VERSION:2.0
PRODID:DPCALENDAR
CALSCALE:GREGORIAN
BEGIN:VTIMEZONE
TZID:Europe/London
X-MICROSOFT-CDO-TZID:1
BEGIN:STANDARD
DTSTART:20251026T010000
TZOFFSETFROM:+0100
TZOFFSETTO:+0000
TZNAME:GMT
END:STANDARD
BEGIN:STANDARD
DTSTART:20261025T010000
TZOFFSETFROM:+0100
TZOFFSETTO:+0000
TZNAME:GMT
END:STANDARD
BEGIN:DAYLIGHT
DTSTART:20260329T010000
TZOFFSETFROM:+0000
TZOFFSETTO:+0100
TZNAME:BST
END:DAYLIGHT
END:VTIMEZONE
X-WR-TIMEZONE:Europe/London
BEGIN:VEVENT
DTSTART;VALUE=DATE:20250601
DTEND;VALUE=DATE:20250602
UID:FDD5AC73-5AB8-4601-9024-C470270ACC27
SUMMARY:Introduction to kayaking
CREATED:20250429T141642Z
DTSTAMP:20250429T141642Z
URL:https://www.bidefordcanoeclub.co.uk/
DESCRIPTION:The Bideford Canoe Club is running an introduction to kayaking day for beginners on Sunday 1 June on a flat water sheltered environment. This will introduce the basic skills needed to enable you to control the kayak and give you confidence. The training day will then be followed up with an estuary trip to provide the opportunity to put newly developed skills into practice.\N\NThe course will be lead by a qualified coach and all equipment can be provided and there is a fee of £45.00 which will include the club membership fee.\NNumbers may be limited, hence please reserve your place by email to bidefordcanoeclub@gmail.com
X-ALT-DESC;FMTTYPE=text/html:<p>The Bideford Canoe Club is running an introduction to kayaking day for beginners on Sunday 1 June on a flat water sheltered environment. This will introduce the basic skills needed to enable you to control the kayak and give you confidence. The training day will then be followed up with an estuary trip to provide the opportunity to put newly developed skills into practice.</p><hr id="system-readmore"><p>The course will be lead by a qualified coach and all equipment can be provided and there is a fee of £45.00 which will include the club membership fee.</p><p>Numbers may be limited, hence please reserve your place by email to <a href="mailto:bidefordcanoeclub@gmail.com?subject=Enquiry%20from%20TTEF%20website">bidefordcanoeclub<span class="atwho-query">@gmail.com</span></a></p>
LAST-MODIFIED:20250429T142250Z
SEQUENCE:368
X-ACCESS:1
X-HITS:281
X-COLOR:3366cc
X-SHOW-END-TIME:0
END:VEVENT
END:VCALENDAR